BEGIN:VCALENDAR
VERSION:2.0
PRODID:-//Sawyer Seminar - ECPv6.7.0//NONSGML v1.0//EN
CALSCALE:GREGORIAN
METHOD:PUBLISH
X-WR-CALNAME:Sawyer Seminar
X-ORIGINAL-URL:https://sawyerseminar.rutgers.edu
X-WR-CALDESC:Events for Sawyer Seminar
REFRESH-INTERVAL;VALUE=DURATION:PT1H
X-Robots-Tag:noindex
X-PUBLISHED-TTL:PT1H
BEGIN:VTIMEZONE
TZID:UTC
BEGIN:STANDARD
TZOFFSETFROM:+0000
TZOFFSETTO:+0000
TZNAME:UTC
DTSTART:20220101T000000
END:STANDARD
TZID:America/Halifax
BEGIN:DAYLIGHT
TZOFFSETFROM:-0400
TZOFFSETTO:-0300
TZNAME:ADT
DTSTART:20220313T060000
END:DAYLIGHT
BEGIN:STANDARD
TZOFFSETFROM:-0300
TZOFFSETTO:-0400
TZNAME:AST
DTSTART:20221106T050000
END:STANDARD
END:VTIMEZONE
BEGIN:VEVENT
DTSTART;VALUE=DATE:20221027
DTEND;VALUE=DATE:20221028
DTSTAMP:20260421T045526
CREATED:20220805T183023Z
LAST-MODIFIED:20220922T192743Z
UID:661-1666828800-1666915199@sawyerseminar.rutgers.edu
SUMMARY:Politics Across Borders: Immigration\, Nativism\, Activism and Trans-Border Political Sentiment
DESCRIPTION:In the context of the scapegoating of immigrants and intensified nativism in US politics\, it is often taken for granted by scholars and journalists that members of immigrant communities in the US would automatically reject such politics. However\, many immigrants hold seemingly contradictory political positions\, informed by multi-national political and economic trends that complicate this simple picture. This seminar examines the complexity of political sentiment and action among some immigrant communities in the Newark area and beyond. It concludes with a roundtable involving panelists and progressive activists from Brazilian communities in the region. \n(10:00-11:30 am) The Global Right Across Borders \n \nHindu Supremacists in a White World\nAudrey Truschke\, Rutgers University\, Newark \nBolsonaristas in the US: 2018 and 2022\nVânia Penha-Lopes\, Bloomfield College \nThe Anti-Democratic Wave in Brazil\nIsabela Kalil\, University of São Paulo \n(1:00-2:30 pm) Immigrant Communities and Global Politics \n \nIndian American Political Activism\nPrema Ann Kurien\, Syracuse University \nPolitical Opinions of Brazilians living in the United States\nGladys Mitchell-Walthour\, North Carolina Central University \nThe Construction of Hinduphobia in the UK\nMeena Dhanda\, University of Wolverhampton \n(3:00-4:30 pm) Roundtable: Transnational Solidarity Politics: Reflections by Organizers \n \nEduardo Vianna\, City University of New York and organizer\, formerly with Defend Democracy in Brazil and BRADO \nNatalia de Campos\, Performance artist and activist\, Defend Democracy in Brazil Committee\, NY \nIn conversation with the panelists\nModerator: Sean T. Mitchell\, Rutgers University\, Newark
URL:https://sawyerseminar.rutgers.edu/event/politics-across-borders-immigration-nativism-activism-and-trans-border-political-sentiment/
LOCATION:Express Newark\, 54 Halsey Street\, 2nd floor\, Room 213\, Newark\, 07102
CATEGORIES:Politics Across Borders: Immigration, Nativism, Activism and Trans-Border Political Sentiment,Public Events
END:VEVENT
BEGIN:VEVENT
DTSTART;TZID=America/Halifax:20221027T100000
DTEND;TZID=America/Halifax:20221027T113000
DTSTAMP:20260421T045526
CREATED:20220805T184153Z
LAST-MODIFIED:20220922T192758Z
UID:673-1666864800-1666870200@sawyerseminar.rutgers.edu
SUMMARY:The Global Right Across Borders
DESCRIPTION:The Global Right Across Borders\n \nHindu Supremacists in a White World\nAudrey Truschke\, Rutgers University\, Newark \nBolsonaristas in the US: 2018 and 2022\nVânia Penha-Lopes\, Bloomfield College \nThe Anti-Democratic Wave in Brazil\nIsabela Kalil\, University of São Paulo
URL:https://sawyerseminar.rutgers.edu/event/the-global-right-across-borders/
LOCATION:Express Newark\, 54 Halsey Street\, 2nd floor\, Room 213\, Newark\, 07102
CATEGORIES:Politics Across Borders: Immigration, Nativism, Activism and Trans-Border Political Sentiment,Public Events
END:VEVENT
BEGIN:VEVENT
DTSTART;TZID=America/Halifax:20221027T130000
DTEND;TZID=America/Halifax:20221027T143000
DTSTAMP:20260421T045526
CREATED:20220805T184254Z
LAST-MODIFIED:20220922T192814Z
UID:675-1666875600-1666881000@sawyerseminar.rutgers.edu
SUMMARY:Immigrant Communities and Global Politics
DESCRIPTION:Immigrant Communities and Global Politics\n \nIndian American Political Activism\nPrema Ann Kurien\, Syracuse University \nPolitical Opinions of Brazilians living in the United States\nGladys Mitchell-Walthour\, North Carolina Central University \nThe Construction of Hinduphobia in the UK\nMeena Dhanda\, University of Wolverhampton
URL:https://sawyerseminar.rutgers.edu/event/immigrant-communities-and-global-politics/
LOCATION:Express Newark\, 54 Halsey Street\, 2nd floor\, Room 213\, Newark\, 07102
CATEGORIES:Politics Across Borders: Immigration, Nativism, Activism and Trans-Border Political Sentiment,Public Events
END:VEVENT
BEGIN:VEVENT
DTSTART;TZID=America/Halifax:20221027T150000
DTEND;TZID=America/Halifax:20221027T163000
DTSTAMP:20260421T045526
CREATED:20220805T184409Z
LAST-MODIFIED:20220922T192839Z
UID:677-1666882800-1666888200@sawyerseminar.rutgers.edu
SUMMARY:Roundtable: Transnational Solidarity Politics: Reflections by Organizers
DESCRIPTION:Roundtable: Transnational Solidarity Politics: Reflections by Organizers\n \nEduardo Vianna\, City University of New York and organizer\, formerly with Defend Democracy in Brazil and BRADO \nNatalia de Campos\, Performance artist and activist\, Defend Democracy in Brazil Committee\, NY \nIn conversation with the panelists\nModerator: Sean T. Mitchell\, Rutgers University\, Newark
URL:https://sawyerseminar.rutgers.edu/event/roundtable-transnational-solidarity-politics-reflections-by-organizers/
LOCATION:Express Newark\, 54 Halsey Street\, 2nd floor\, Room 213\, Newark\, 07102
CATEGORIES:Politics Across Borders: Immigration, Nativism, Activism and Trans-Border Political Sentiment,Public Events
END:VEVENT
END:VCALENDAR