BEGIN:VCALENDAR
VERSION:2.0
PRODID:-//Sawyer Seminar - ECPv6.7.0//NONSGML v1.0//EN
CALSCALE:GREGORIAN
METHOD:PUBLISH
X-WR-CALNAME:Sawyer Seminar
X-ORIGINAL-URL:https://sawyerseminar.rutgers.edu
X-WR-CALDESC:Events for Sawyer Seminar
REFRESH-INTERVAL;VALUE=DURATION:PT1H
X-Robots-Tag:noindex
X-PUBLISHED-TTL:PT1H
BEGIN:VTIMEZONE
TZID:America/Halifax
BEGIN:DAYLIGHT
TZOFFSETFROM:-0400
TZOFFSETTO:-0300
TZNAME:ADT
DTSTART:20230312T060000
END:DAYLIGHT
BEGIN:STANDARD
TZOFFSETFROM:-0300
TZOFFSETTO:-0400
TZNAME:AST
DTSTART:20231105T050000
END:STANDARD
END:VTIMEZONE
BEGIN:VEVENT
DTSTART;TZID=America/Halifax:20230920T100000
DTEND;TZID=America/Halifax:20230920T140000
DTSTAMP:20260422T145223
CREATED:20230627T164635Z
LAST-MODIFIED:20230727T165230Z
UID:1157-1695204000-1695218400@sawyerseminar.rutgers.edu
SUMMARY:Institutionalizing Change
DESCRIPTION:Institutionalizing Change is both the capstone and the conclusion of the yearlong discussion of race\, immigration\, and inequality that has been the focus of the Sawyer seminar series\, Natives and Nativists\, Immigrants and Migrants in an American City. \nThe goal of this final seminar is to have a frank conversation on how to turn scholarly insights into institutional action and create community consensus on immigration and educational access for the greater Newark community. It features a roundtable discussion with eminent leaders\, migration scholars\, and advocates on how to institutionalize that change\, starting with the institutions of Newark. \nGuiding questions for this seminar include: \n\nWhat is the philosophy that guides university policy around undocumented students/faculty/staff?\nHow is that policy influenced by leading migration scholarship\, or is it shaped by other influences and considerations?\nWhat are the challenges\, priorities in institutionalizing a pro-migrant policy at a leading American university in the current political climate?\n\nPanelists \nNancy Cantor\, Chancellor\, Rutgers University\, Newark\nRoberto Gonzales\, Founder and Director\, Penn Migration Initiative\, University of Pennsylvania\nJason Hernandez\, Rutgers Immigrant Community Assistance Project\nPeter T. Rosario\, President and CEO\, La Casa de Don Pedro\nModerator: Kornel Chang\, Associate Professor\, History\, Rutgers University\, Newark \nSchedule \n9:30 AM – 10:00 AM Breakfast\n10:00 AM – 11:30 AM Panel\n11:30 AM – 12:00 PM Poetry and Jazz Video Presentation\n12:00 PM – 2:00 PM Lunch
URL:https://sawyerseminar.rutgers.edu/event/institutionalizing-change/
LOCATION:Express Newark\, 54 Halsey Street\, 2nd floor\, Room 213\, Newark\, 07102
CATEGORIES:Institutionalizing Change,Public Events
END:VEVENT
END:VCALENDAR